BEGIN:VCALENDAR
VERSION:2.0
PRODID:-//Centre Space - A Toronto Art Gallery Venue - ECPv6.10.1.1//NONSGML v1.0//EN
CALSCALE:GREGORIAN
METHOD:PUBLISH
X-WR-CALNAME:Centre Space - A Toronto Art Gallery Venue
X-ORIGINAL-URL:https://www.centre-space.ca
X-WR-CALDESC:Events for Centre Space - A Toronto Art Gallery Venue
REFRESH-INTERVAL;VALUE=DURATION:PT1H
X-Robots-Tag:noindex
X-PUBLISHED-TTL:PT1H
BEGIN:VTIMEZONE
TZID:UTC
BEGIN:STANDARD
TZOFFSETFROM:+0000
TZOFFSETTO:+0000
TZNAME:UTC
DTSTART:20190101T000000
END:STANDARD
END:VTIMEZONE
BEGIN:VEVENT
DTSTART;VALUE=DATE:20191012
DTEND;VALUE=DATE:20191124
DTSTAMP:20260423T122734
CREATED:20190906T215523Z
LAST-MODIFIED:20190907T190529Z
UID:1817-1570838400-1574553599@www.centre-space.ca
SUMMARY:Exhibition: 60/60
DESCRIPTION:Leading up to the 60th anniversary of the Kinngait Studios\, this exhibition features sixty graphics\, one from each year since its establishment in 1959. The works chosen showcase the many artists who passed through the studios (also know as the “co-op”) between 1959-2019\, highlighting key artistic innovations and developments in style\, technique\, scale\, medium\, and subject matter.
URL:https://www.centre-space.ca/event/exhibition-60-60/
ATTACH;FMTTYPE=image/jpeg:https://www.centre-space.ca/wp-content/uploads/2019/09/pml_0465.jpg
ORGANIZER;CN="Feheley Fine Arts":MAILTO:gallery@feheleyfinearts.com
END:VEVENT
END:VCALENDAR